BEGIN:VCALENDAR
VERSION:2.0
PRODID:-//Avalou Plabenneg - ECPv6.15.16//NONSGML v1.0//EN
CALSCALE:GREGORIAN
METHOD:PUBLISH
X-WR-CALNAME:Avalou Plabenneg
X-ORIGINAL-URL:https://avalouplabenneg.bzh
X-WR-CALDESC:Évènements pour Avalou Plabenneg
REFRESH-INTERVAL;VALUE=DURATION:PT1H
X-Robots-Tag:noindex
X-PUBLISHED-TTL:PT1H
BEGIN:VTIMEZONE
TZID:Europe/Paris
BEGIN:DAYLIGHT
TZOFFSETFROM:+0100
TZOFFSETTO:+0200
TZNAME:CEST
DTSTART:20250330T010000
END:DAYLIGHT
BEGIN:STANDARD
TZOFFSETFROM:+0200
TZOFFSETTO:+0100
TZNAME:CET
DTSTART:20251026T010000
END:STANDARD
BEGIN:DAYLIGHT
TZOFFSETFROM:+0100
TZOFFSETTO:+0200
TZNAME:CEST
DTSTART:20260329T010000
END:DAYLIGHT
BEGIN:STANDARD
TZOFFSETFROM:+0200
TZOFFSETTO:+0100
TZNAME:CET
DTSTART:20261025T010000
END:STANDARD
BEGIN:DAYLIGHT
TZOFFSETFROM:+0100
TZOFFSETTO:+0200
TZNAME:CEST
DTSTART:20270328T010000
END:DAYLIGHT
BEGIN:STANDARD
TZOFFSETFROM:+0200
TZOFFSETTO:+0100
TZNAME:CET
DTSTART:20271031T010000
END:STANDARD
END:VTIMEZONE
BEGIN:VEVENT
DTSTART;TZID=Europe/Paris:20260919T140000
DTEND;TZID=Europe/Paris:20260919T173000
DTSTAMP:20260425T062523
CREATED:20251216T165103Z
LAST-MODIFIED:20251216T165103Z
UID:5626-1789826400-1789839000@avalouplabenneg.bzh
SUMMARY:Première cueillette
DESCRIPTION:
URL:https://avalouplabenneg.bzh/agenda/premiere-cueillette
LOCATION:Verger conservatoire de Locmaria\, Locmaria\, Plabennec\, 29860\, France
ORGANIZER;CN="Avalou Plabenneg":MAILTO:avalouplab@gmail.com
END:VEVENT
END:VCALENDAR