BEGIN:VCALENDAR
VERSION:2.0
PRODID:-//Avalou Plabenneg - ECPv6.15.16//NONSGML v1.0//EN
CALSCALE:GREGORIAN
METHOD:PUBLISH
X-ORIGINAL-URL:https://avalouplabenneg.bzh
X-WR-CALDESC:Évènements pour Avalou Plabenneg
REFRESH-INTERVAL;VALUE=DURATION:PT1H
X-Robots-Tag:noindex
X-PUBLISHED-TTL:PT1H
BEGIN:VTIMEZONE
TZID:Europe/Paris
BEGIN:DAYLIGHT
TZOFFSETFROM:+0100
TZOFFSETTO:+0200
TZNAME:CEST
DTSTART:20250330T010000
END:DAYLIGHT
BEGIN:STANDARD
TZOFFSETFROM:+0200
TZOFFSETTO:+0100
TZNAME:CET
DTSTART:20251026T010000
END:STANDARD
BEGIN:DAYLIGHT
TZOFFSETFROM:+0100
TZOFFSETTO:+0200
TZNAME:CEST
DTSTART:20260329T010000
END:DAYLIGHT
BEGIN:STANDARD
TZOFFSETFROM:+0200
TZOFFSETTO:+0100
TZNAME:CET
DTSTART:20261025T010000
END:STANDARD
BEGIN:DAYLIGHT
TZOFFSETFROM:+0100
TZOFFSETTO:+0200
TZNAME:CEST
DTSTART:20270328T010000
END:DAYLIGHT
BEGIN:STANDARD
TZOFFSETFROM:+0200
TZOFFSETTO:+0100
TZNAME:CET
DTSTART:20271031T010000
END:STANDARD
END:VTIMEZONE
BEGIN:VEVENT
DTSTART;TZID=Europe/Paris:20260509T140000
DTEND;TZID=Europe/Paris:20260509T173000
DTSTAMP:20260425T045224
CREATED:20251216T164451Z
LAST-MODIFIED:20251216T164451Z
UID:5616-1778335200-1778347800@avalouplabenneg.bzh
SUMMARY:Paillage et entretien Vergers
DESCRIPTION:
URL:https://avalouplabenneg.bzh/agenda/paillage-et-entretien-vergers
LOCATION:Verger de Kerangal\, rue Tanguy Malmanche\, 29860 Plabennec\, France
ORGANIZER;CN="Avalou Plabenneg":MAILTO:avalouplab@gmail.com
END:VEVENT
BEGIN:VEVENT
DTSTART;TZID=Europe/Paris:20260613T140000
DTEND;TZID=Europe/Paris:20260613T173000
DTSTAMP:20260425T045224
CREATED:20251216T164618Z
LAST-MODIFIED:20251216T164618Z
UID:5618-1781359200-1781371800@avalouplabenneg.bzh
SUMMARY:Eclaircissage et lutte contre les maladies
DESCRIPTION:
URL:https://avalouplabenneg.bzh/agenda/eclaircissage-et-lutte-contre-les-maladies
LOCATION:Verger conservatoire de Locmaria\, Locmaria\, Plabennec\, 29860\, France
ORGANIZER;CN="Avalou Plabenneg":MAILTO:avalouplab@gmail.com
END:VEVENT
BEGIN:VEVENT
DTSTART;TZID=Europe/Paris:20260822T140000
DTEND;TZID=Europe/Paris:20260822T173000
DTSTAMP:20260425T045224
CREATED:20251216T164723Z
LAST-MODIFIED:20251216T164723Z
UID:5620-1787407200-1787419800@avalouplabenneg.bzh
SUMMARY:Greffage en écusson - Taille en vert
DESCRIPTION:
URL:https://avalouplabenneg.bzh/agenda/greffage-en-ecusson-taille-en-vert
LOCATION:Verger conservatoire de Locmaria\, Locmaria\, Plabennec\, 29860\, France
ORGANIZER;CN="Avalou Plabenneg":MAILTO:avalouplab@gmail.com
END:VEVENT
BEGIN:VEVENT
DTSTART;TZID=Europe/Paris:20260830T140000
DTEND;TZID=Europe/Paris:20260830T173000
DTSTAMP:20260425T045224
CREATED:20251216T164822Z
LAST-MODIFIED:20251216T164822Z
UID:5622-1788098400-1788111000@avalouplabenneg.bzh
SUMMARY:Portes ouvertes
DESCRIPTION:
URL:https://avalouplabenneg.bzh/agenda/portes-ouvertes
LOCATION:Verger conservatoire de Locmaria\, Locmaria\, Plabennec\, 29860\, France
ORGANIZER;CN="Avalou Plabenneg":MAILTO:avalouplab@gmail.com
END:VEVENT
BEGIN:VEVENT
DTSTART;TZID=Europe/Paris:20260912T080000
DTEND;TZID=Europe/Paris:20260912T170000
DTSTAMP:20260425T045224
CREATED:20251216T164958Z
LAST-MODIFIED:20251216T164958Z
UID:5624-1789200000-1789232400@avalouplabenneg.bzh
SUMMARY:Sortie association
DESCRIPTION:Lieux de la sortie à définir
URL:https://avalouplabenneg.bzh/agenda/sortie-association-2
ORGANIZER;CN="Avalou Plabenneg":MAILTO:avalouplab@gmail.com
END:VEVENT
BEGIN:VEVENT
DTSTART;TZID=Europe/Paris:20260919T140000
DTEND;TZID=Europe/Paris:20260919T173000
DTSTAMP:20260425T045224
CREATED:20251216T165103Z
LAST-MODIFIED:20251216T165103Z
UID:5626-1789826400-1789839000@avalouplabenneg.bzh
SUMMARY:Première cueillette
DESCRIPTION:
URL:https://avalouplabenneg.bzh/agenda/premiere-cueillette
LOCATION:Verger conservatoire de Locmaria\, Locmaria\, Plabennec\, 29860\, France
ORGANIZER;CN="Avalou Plabenneg":MAILTO:avalouplab@gmail.com
END:VEVENT
BEGIN:VEVENT
DTSTART;TZID=Europe/Paris:20261003T140000
DTEND;TZID=Europe/Paris:20261003T173000
DTSTAMP:20260425T045224
CREATED:20251216T165207Z
LAST-MODIFIED:20251216T165207Z
UID:5628-1791036000-1791048600@avalouplabenneg.bzh
SUMMARY:Deuxième Cueillette
DESCRIPTION:
URL:https://avalouplabenneg.bzh/agenda/deuxieme-cueillette
LOCATION:Verger conservatoire de Locmaria\, Locmaria\, Plabennec\, 29860\, France
ORGANIZER;CN="Avalou Plabenneg":MAILTO:avalouplab@gmail.com
END:VEVENT
BEGIN:VEVENT
DTSTART;TZID=Europe/Paris:20261018T100000
DTEND;TZID=Europe/Paris:20261018T173000
DTSTAMP:20260425T045224
CREATED:20251216T165353Z
LAST-MODIFIED:20251216T165353Z
UID:5630-1792317600-1792344600@avalouplabenneg.bzh
SUMMARY:Fête de la pomme
DESCRIPTION:
URL:https://avalouplabenneg.bzh/agenda/fete-de-la-pomme-5
LOCATION:Salle Marcel Bouguen\, 15 Rue du Penquer\, Plabennec\, 29860\, France
ORGANIZER;CN="Avalou Plabenneg":MAILTO:avalouplab@gmail.com
END:VEVENT
BEGIN:VEVENT
DTSTART;TZID=Europe/Paris:20261121T140000
DTEND;TZID=Europe/Paris:20261121T170000
DTSTAMP:20260425T045224
CREATED:20251216T165514Z
LAST-MODIFIED:20251216T165514Z
UID:5632-1795269600-1795280400@avalouplabenneg.bzh
SUMMARY:Etude de sol - Plantation - Mesure de PH
DESCRIPTION:
URL:https://avalouplabenneg.bzh/agenda/etude-de-sol-plantation-mesure-de-ph
LOCATION:Verger conservatoire de Locmaria\, Locmaria\, Plabennec\, 29860\, France
ORGANIZER;CN="Avalou Plabenneg":MAILTO:avalouplab@gmail.com
END:VEVENT
END:VCALENDAR